BEGIN:VCALENDAR
VERSION:2.0
PRODID:-//Altheimer Musikanten - ECPv6.15.17.1//NONSGML v1.0//EN
CALSCALE:GREGORIAN
METHOD:PUBLISH
X-ORIGINAL-URL:https://www.altheimer-musikanten.de
X-WR-CALDESC:Veranstaltungen für Altheimer Musikanten
REFRESH-INTERVAL;VALUE=DURATION:PT1H
X-Robots-Tag:noindex
X-PUBLISHED-TTL:PT1H
BEGIN:VTIMEZONE
TZID:Europe/Berlin
BEGIN:DAYLIGHT
TZOFFSETFROM:+0100
TZOFFSETTO:+0200
TZNAME:CEST
DTSTART:20250330T010000
END:DAYLIGHT
BEGIN:STANDARD
TZOFFSETFROM:+0200
TZOFFSETTO:+0100
TZNAME:CET
DTSTART:20251026T010000
END:STANDARD
BEGIN:DAYLIGHT
TZOFFSETFROM:+0100
TZOFFSETTO:+0200
TZNAME:CEST
DTSTART:20260329T010000
END:DAYLIGHT
BEGIN:STANDARD
TZOFFSETFROM:+0200
TZOFFSETTO:+0100
TZNAME:CET
DTSTART:20261025T010000
END:STANDARD
BEGIN:DAYLIGHT
TZOFFSETFROM:+0100
TZOFFSETTO:+0200
TZNAME:CEST
DTSTART:20270328T010000
END:DAYLIGHT
BEGIN:STANDARD
TZOFFSETFROM:+0200
TZOFFSETTO:+0100
TZNAME:CET
DTSTART:20271031T010000
END:STANDARD
END:VTIMEZONE
BEGIN:VEVENT
DTSTART;TZID=Europe/Berlin:20260712T143000
DTEND;TZID=Europe/Berlin:20260712T183000
DTSTAMP:20260422T115311
CREATED:20251213T091909Z
LAST-MODIFIED:20260130T174012Z
UID:1693-1783866600-1783881000@www.altheimer-musikanten.de
SUMMARY:Dorffest Merklingen
DESCRIPTION:Die Altheimer Musikanten unterhalten beim Merklinger Dorffest von 14:30 – 18:30 Uhr
URL:https://www.altheimer-musikanten.de/termin/dorffest-merklingen/
LOCATION:Merklingen\, Merklingen\, 89188
ATTACH;FMTTYPE=image/jpeg:https://www.altheimer-musikanten.de/wp-content/uploads/2023/04/Merklingen2-scaled.jpeg
END:VEVENT
END:VCALENDAR