BEGIN:VCALENDAR
VERSION:2.0
PRODID:-//Altheimer Musikanten - ECPv6.15.17.1//NONSGML v1.0//EN
CALSCALE:GREGORIAN
METHOD:PUBLISH
X-ORIGINAL-URL:https://www.altheimer-musikanten.de
X-WR-CALDESC:Veranstaltungen für Altheimer Musikanten
REFRESH-INTERVAL;VALUE=DURATION:PT1H
X-Robots-Tag:noindex
X-PUBLISHED-TTL:PT1H
BEGIN:VTIMEZONE
TZID:Europe/Berlin
BEGIN:DAYLIGHT
TZOFFSETFROM:+0100
TZOFFSETTO:+0200
TZNAME:CEST
DTSTART:20250330T010000
END:DAYLIGHT
BEGIN:STANDARD
TZOFFSETFROM:+0200
TZOFFSETTO:+0100
TZNAME:CET
DTSTART:20251026T010000
END:STANDARD
BEGIN:DAYLIGHT
TZOFFSETFROM:+0100
TZOFFSETTO:+0200
TZNAME:CEST
DTSTART:20260329T010000
END:DAYLIGHT
BEGIN:STANDARD
TZOFFSETFROM:+0200
TZOFFSETTO:+0100
TZNAME:CET
DTSTART:20261025T010000
END:STANDARD
BEGIN:DAYLIGHT
TZOFFSETFROM:+0100
TZOFFSETTO:+0200
TZNAME:CEST
DTSTART:20270328T010000
END:DAYLIGHT
BEGIN:STANDARD
TZOFFSETFROM:+0200
TZOFFSETTO:+0100
TZNAME:CET
DTSTART:20271031T010000
END:STANDARD
END:VTIMEZONE
BEGIN:VEVENT
DTSTART;TZID=Europe/Berlin:20260724T190000
DTEND;TZID=Europe/Berlin:20260724T220000
DTSTAMP:20260422T102911
CREATED:20251214T150031Z
LAST-MODIFIED:20260322T114401Z
UID:1269-1784919600-1784930400@www.altheimer-musikanten.de
SUMMARY:Unterhaltung im Biergarten der Pflugbrauerei
DESCRIPTION:Zum Start in die Sommerferien spielen die Altheimer Musikanten im Biergarten der Pflugbauerei  auf. \nWir freuen uns auf euer Kommen
URL:https://www.altheimer-musikanten.de/termin/unterhaltung-im-biergarten-der-pflugbrauerei/
LOCATION:Pflugbrauerei Hörvelsingen\, Wirtsgasse 7\, Langenau-Hörvelsingen\, 89129\, Deutschland
ATTACH;FMTTYPE=image/jpeg:https://www.altheimer-musikanten.de/wp-content/uploads/2016/03/Pflug_logo.jpg
END:VEVENT
END:VCALENDAR